BEGIN:VCALENDAR
VERSION:2.0
PRODID:http://www.pr-betzdorf.de
BEGIN:VEVENT
UID:17644b72-3cd7-11f1-a3e9-0242ac11002b-1781622000000-de
DTSTAMP:20260420T163633Z
DTSTART:20260616T150000Z
DTEND:20260616T173000Z
SUMMARY;LANGUAGE=de:Liebe, Likes und echte Werte – was zählt wirklich in einer Beziehung?
DESCRIPTION;LANGUAGE=de:In diesem Workshop geht’s um Themen\, die uns alle betreffen: Gefühle\, Werte\, Sexualität und Erwartungen in Beziehungen.\nWir schauen uns an\, was uns persönlich wichtig ist\, was wir über Beziehungen wissen – und was wir vielleicht noch herausfinden wollen.\nGemeinsam überlegen wir\, wie eine gute Beziehung aussehen kann\, „basteln“ unseren Traumpartner oder unsere Traumpartnerin und testen im Spiel\, wie wir mit dem Thema Sexualität umgehen.\nKurz gesagt: Wir reden ehrlich über Beziehung\, Liebe\, Nähe und das\, was für uns wirklich zählt.\nDauer: 2\,5 Stunden\nTeilnehmerzahl: 8 - 16\nTermin: Dienstag\, 16. Juni 2026\nUhrzeit: 17.00 Uhr\nOrt: Pfarrheim Kirchen\nKirchstr. 4\, 57548 Kirchen (unterhalb der Kirche)\nAnsprechpartner: -Joachim Otterbach\, Fachstelle Jugend Koblenz\, Tel.: 0160-7479991\njoachim.otterbach@bistum-trier.de\n-Regine Wald\, Leitung Pastoraler Raum Betzdorf\, Tel.: 0175-4821886\nregine.wald@bistum-.trier.de
LOCATION;LANGUAGE=de:Pfarrheim Kirchen\, Kirchstr. 4\, 57548 Kirchen
END:VEVENT
END:VCALENDAR
