BEGIN:VCALENDAR
VERSION:2.0
PRODID:http://www.pr-betzdorf.de
BEGIN:VEVENT
UID:4bb13392-3cd9-11f1-a3e9-0242ac11002b--de
DTSTAMP:20260420T165220Z
DTSTART:19700101T000000Z
SUMMARY;LANGUAGE=de:Mithilfe im Tierpark – Werde Tierpfleger/in für einen Tag!
DESCRIPTION;LANGUAGE=de:In Anlehnung an „Laudato si“ steht die gemeinsame Sorge um unsere Welt bei diesem Projekt im Mittelpunkt hierbei. Tiere sind Mitgeschöpfe\, um die es sich zu kümmern gilt und für Artenvielfalt einzutreten. Hierbei können auch Firmlinge unterstützen. Beispielsweise:\nMithilfe bei Futterzubereitung und Fütterung\,\nStall- oder Gehege-Säuberung u.a.\nDie Teilnehmerzahl bei diesen Terminen ist begrenzt. Maximal 4 Firmlinge können je Projekt teilnehmen. Die Mindestteilnehmerzahl: 2 Firmlinge.\nFolgende Termine zur Auswahl:\nFr. 29.05. 26 oder Sa. 30.05.26\nFr. 05.06.26 oder Sa. 06.06.26\nFr. 12.06.26 oder Sa. 13.06.26\nFr. 19.06.26 oder Sa. 20.06.26\nFr. 26.06.26 oder Sa. 27.06.26
LOCATION;LANGUAGE=de:Tierpark Niederfischbach e.V.\, Schlesingstraße\, Kesselbachtal\, 57572 Niederfischbach
END:VEVENT
END:VCALENDAR
