BEGIN:VCALENDAR
VERSION:2.0
PRODID:http://www.pr-betzdorf.de
BEGIN:VEVENT
UID:5c082cd3-3cdb-11f1-a3e9-0242ac11002b-1786374000000-de
DTSTAMP:20260420T170706Z
DTSTART:20260810T150000Z
DTEND:20260810T163000Z
SUMMARY;LANGUAGE=de:Warum Glaubende manchmal auf Dächer steigen. Eine Bibelexpedition.
DESCRIPTION;LANGUAGE=de:Eine Expedition entlang der biblischen Erzählung von der Heilung eines Gelähmten (Mk 2\,1-12) führt uns auf die Spur des Glaubens und die möglichen Deutungen für mein Leben und meinen Glauben heute.
LOCATION;LANGUAGE=de:nahdran\, Bahnhofstr. 2-4\, 57518 Betzdorf
END:VEVENT
END:VCALENDAR
