BEGIN:VCALENDAR
VERSION:2.0
PRODID:http://www.pr-betzdorf.de
BEGIN:VEVENT
UID:79de4f7d-3cdc-11f1-a3e9-0242ac11002b-1781017200000-de
DTSTAMP:20260420T171506Z
DTSTART:20260609T150000Z
DTEND:20260609T170000Z
SUMMARY;LANGUAGE=de:Kennenlernen der Lebensberatungsstelle in Betzdorf
DESCRIPTION;LANGUAGE=de:An diesem Abend lernst du die Räumlichkeiten und die Arbeitsfelder der Lebensberatungsstelle in Betzdorf kennen. Nach einem Input von Georg Krämer kommt ihr selbst untereinander ins Gespräch und überlegt\, was für euch ein gutes Gespräch ausmacht.\nWir freuen uns auf euer Kommen und Mitwirken!\nOrt: Lebensberatungsstelle Betzdorf\, Beratungsstelle des Bistums Trier (Bahnhofsstraße 12\, 3. Stock\, 57518 Betzdorf)\nTermin: Dienstag\, den 9.6.26\nUhrzeit: 17:00-19:00 Uhr\nTN-Zahl: max. 10 Personen/mind. 6 Personen\nAnsprechpersonen: Elisabeth Berwanger und Georg Krämer (Lebensberatung Betzdorf)\nKontaktdaten: 0160 96279430\, elisabeth.berwanger@bistum-trier.de\nAnmeldeschluss: Sonntag\, den 7.6.26
LOCATION;LANGUAGE=de:Lebensberatungsstelle Betzdorf\, Beratungsstelle des Bistums Trier\, Bahnhofsstraße 12\, 3. Stock\, 57518 Betzdorf
END:VEVENT
END:VCALENDAR
