BEGIN:VCALENDAR
VERSION:2.0
PRODID:http://www.pr-betzdorf.de
BEGIN:VEVENT
UID:7cb113d8-3cdb-11f1-a3e9-0242ac11002b-1782221400000-de
DTSTAMP:20260420T170801Z
DTSTART:20260623T133000Z
DTEND:20260623T170000Z
SUMMARY;LANGUAGE=de:Wert(e)volle Bilder: Was ist Dir wichtig? Ein Foto-Kurzworkshop.
DESCRIPTION;LANGUAGE=de:Was ist dir wichtig? Diese Frage ist oft schwer zu beantworten\, gerade weil „Werte“ oft schwer zu greifen sind. Deshalb lernt ihr in diesem Kurzworkshop\, wie ihr mit eurem Handy aussagekräftige Fotos macht\, von dem\, was euch wichtig ist. Wer will\, kann auch gerne eine eigene Kamera zum Workshop mitbringen.
LOCATION;LANGUAGE=de:Pfarrheim Bruche\, Klosterweg 6\, 57518 Betzdorf
END:VEVENT
END:VCALENDAR
