BEGIN:VCALENDAR
VERSION:2.0
PRODID:http://www.pr-betzdorf.de
BEGIN:VEVENT
UID:a5063e6c-3cdb-11f1-a3e9-0242ac11002b-1779202800000-de
DTSTAMP:20260420T170908Z
DTSTART:20260519T150000Z
DTEND:20260519T170000Z
SUMMARY;LANGUAGE=de:Fürchtet euch nicht. Hinter dem Horizont geht es weiter. Besuch beim Bestatter.
DESCRIPTION;LANGUAGE=de:Für viele ist das Thema Sterben und Tod noch weit weg. Manche haben vielleicht schon Erfahrungen damit gemacht. Vielleicht gibt es die ein oder andere Frage nach den letzten Dingen. Was passiert eigentlich\, wenn ein Mensch gestorben ist? Gibt es ein Leben nach dem Tod?\nDer Tod gehört zum Leben dazu. In dieser schweren Zeit braucht der Mensch einen Menschen\, der ihm zur Seite steht. Das Beerdigungsinstitut Himmrich hat es sich\, neben den Seelsorger:innen\, zur Aufgabe gemacht\, für den trauernden Menschen und seine Familie da zu sein\, zu helfen und zu unterstützen. Der letzte Weg für den Verstorbenen soll liebevoll und ganz individuell gestaltet werden.\nGemeinsam möchten wir das traditionsreiche Familienunternehmen besuchen. Wir erfahren\, welche Aufgaben ein Bestatter hat\, was es alles zu regeln gibt\, welche Bestattungsformen es gibt und noch vieles mehr… Bei einer kleinen Führung durch die Räume des Beerdigungsinstituts bekommen wir viele Antworten auf unsere Fragen\, können gemeinsam ins Gespräch kommen.
LOCATION;LANGUAGE=de:Beerdigungsinstitut H. Himmrich\, Industriestraße 9\, 57518 Alsdorf
END:VEVENT
END:VCALENDAR
