BEGIN:VCALENDAR
VERSION:2.0
PRODID:http://www.pr-betzdorf.de
BEGIN:VEVENT
UID:ae0f9890-40b2-11f1-a3e9-0242ac11002b-1785337200000-de
DTSTAMP:20260425T142559Z
DTSTART:20260729T150000Z
DTEND:20260729T173000Z
SUMMARY;LANGUAGE=de:Zocken, Kiffen...- ist doch alles gar nicht so schlimm!
DESCRIPTION;LANGUAGE=de:Zocken\, Kiffen…\nIst doch alles gar nicht so schlimm!\nInformations- und Diskussionsveranstaltung für Firmlinge über verschiedene Süchte\nHier können Fragen diskutiert werden\, wie:\nWird man von Cannabis süchtig? Wie schnell wird man süchtig? Was ist Sucht? Wird man vom Zocken ähnlich süchtig wie beim Alkohol? Wie verhindert man eine Suchterkrankung? Etc.
LOCATION;LANGUAGE=de:Bismarckstr. 7\, 57518 Betzdorf
END:VEVENT
END:VCALENDAR
