BEGIN:VCALENDAR
VERSION:2.0
PRODID:http://www.pr-betzdorf.de
BEGIN:VEVENT
UID:ffcfad52-40b3-11f1-a3e9-0242ac11002b-1779761700000-de
DTSTAMP:20260425T143526Z
DTSTART:20260526T021500Z
DTEND:20260526T160000Z
SUMMARY;LANGUAGE=de:Fahrt zur Springprozession nach Echternach 2026
DESCRIPTION;LANGUAGE=de:Aus allen Richtungen machen sich am Pfingstdienstag verschiedene Gruppen auf den Weg in die luxemburgische Stadt Echternach\, in die St. Willibrord Basilika\, wo traditionell die Echternacher Springprozession stattfindet.\nWir möchten alle Messdiener und Jugendlichen ab 13+ dazu ganz herzlich einladen!\n„Was ist die Route Echternach?“\nDie Route Echternach ist eine Jugendwallfahrt in die luxemburgische Stadt Echternach\, die jedes Jahr vom Abend des Pfingstmontages bis zum Nachmittag des Pfingstdiensttages stattfindet. Mehrere Gruppen starten an verschiedenen Ausgangspunkten und wandern auf unterschiedlichen Wegen durch die Nacht nach Echternach. Auf Grund unserer weiten Anreise werden wir mit dem Auto nach Echternach „pilgern“. Am Pfingstdienstag werden wir uns mit Kleinbussen in den frühen Morgenstunden auf den Weg nach Echternach machen. Nach unserer Ankunft werden wir an dem großen Pontifikalamt teilnehmen.\n„Was ist die Echternacher Springprozessionen?“\nDie Echternacher Springprozession hat eine lange Tradition und ist der Höhepunkt der „Route Echternach“. Die Teilnehmer springen zu Polkamelodien in Fünferreihen durch die Straßen von Echternach zu dem Grab des Hl. Willibrord (Schutzpatron der Luxemburger Messdiener 😊) in der Echternacher Basilika.\nBei der Springprozession gibt es eine „Kleiderordnung“. Bitte tragt eine lange schwarze Hose und ein weißes Hemd/Bluse/T-Shirt (diese darf auch kurz sein). Wer anders kommt\, der fällt auf 😊. Gerne könnt ihr Euch für im Anschluss Wechselkleidung mitnehmen.\nNach dem Pontifikalamt und der Springprozession werden wir weiter nach Trier fahren und dort gemeinsam zu Mittag essen. Am Nachmittag geht es dann zurück auf die schöne Insel.\nHier für Euch die wichtigsten Informationen im Überblick:\nPfingstdienstag\, 26.05.2026\n04:15 Uhr: Abfahrt\, Kirche St. Peter und Paul\, Alsdorf\n07:30 Uhr: Ankunft Echternach\n08:00 Uhr: Pontifikalamt in der Echternacher Basilika\, danach Aufstellen zur Springprozession\n10:30 Uhr: Teilnahme an der Echternacher Springprozession\n13:00 Uhr: Gemeinsames Mittagessen in Trier (Geld mitnehmen)\n15:00 Uhr: Rückfahrt auf die Insel (PastR Betzdorf)\nGegen 18:00 Uhr: Ankunft an der St. Peter und Paul\, Alsdorf\nMitzubringen sind:\nschwarze lange Hose und weiße Bluse/Hemd/T-Shirt\nWechselkleidung\nAusreichend Getränke\nLunchpaket zum Frühstück\nGeld fürs Mittagessen (Pizzeria)\nggf. Sprungtuch aus Echternach vom letzten Jahr\nEine Befreiung für den Schulunterricht ist möglich\, bitte gebt in den Bemerkungen bei der Anmeldung an\, dass ihr ein entsprechendes Dokument benötigt.\nWenn ihr die Echternacher Springprozession nicht verpassen möchtet\, dann meldet euch bis spätestens Sonntag\, 17.05.2026 an.\nDen Teilnehmerbeitrag in Höhe von 20 € überweist ihr bitte bis zum Mittwoch\, 20.05.2026 auf folgendes Konto:\nInhaber: KGV PastR Betzdorf\nIBAN: DE61 3706 0193 3002 4050 07\nBank: Pax Bank\nVerwendungszweck: Echternach 2026 + Vorname + Nachname\nBitte beachtet\, dass nur eine begrenzte Anzahl an Plätzen zur Verfügung steht. Die Plätze werden nach dem Eingang der Anmeldungen vergeben.\nBei Fragen könnt ihr euch gerne an uns wenden:\nElisabeth Berwanger\, Pastoralassistentin\, elisabeth.berwanger@bistum-trier.de\nLukas Nerantzis\, lukas.nerantzis@bistum-trier.de
LOCATION;LANGUAGE=de:Echternach\, Luxemburg
IMAGE;VALUE=URI;DISPLAY=BADGE;FMTTYPE=image/jpeg:http://www.pr-betzdorf.de/export/sites/pastr/betzdorf/.galleries/bilder/18770_20150327_160432_by_marc_urhausen_pfarrbriefservice.jpg
END:VEVENT
END:VCALENDAR
